BEGIN:VCALENDAR
VERSION:2.0
PRODID:-//Efecto Mariposa - ECPv6.15.20//NONSGML v1.0//EN
CALSCALE:GREGORIAN
METHOD:PUBLISH
X-WR-CALNAME:Efecto Mariposa
X-ORIGINAL-URL:https://staging.efectodemariposa.com
X-WR-CALDESC:Eventos para Efecto Mariposa
REFRESH-INTERVAL;VALUE=DURATION:PT1H
X-Robots-Tag:noindex
X-PUBLISHED-TTL:PT1H
BEGIN:VTIMEZONE
TZID:UTC
BEGIN:STANDARD
TZOFFSETFROM:+0000
TZOFFSETTO:+0000
TZNAME:UTC
DTSTART:20230101T000000
END:STANDARD
END:VTIMEZONE
BEGIN:VEVENT
DTSTART;TZID=UTC:20241006T100000
DTEND;TZID=UTC:20241006T140000
DTSTAMP:20260422T165918
CREATED:20240909T074352Z
LAST-MODIFIED:20240923T171730Z
UID:599-1728208800-1728223200@staging.efectodemariposa.com
SUMMARY:MUNAY KI: Sanación de la serpiente
DESCRIPTION:TALLER Sanación con la Serpiente: \nCada vez que vemos serpiente se nos remuevan las entrañas\, esa alerta al nivel celular y ancestral\, creencias que no son nuestras me imagino\, al peligro del veneno. Es el miedo que no nos deja liberarnos de bloqueos .\nA pesar que usamos su veneno para curarnos la seguimos maldiciendo.\nLa serpiente es el símbolo de la medicina: la vara de Esculapio (Asclepio) o el caduceo de Hermes (Mercurio) \n\n\nLa Serpiente simboliza el conocimiento\, la sexualidad\, ADN y la sanación. Tal vez éste sea el arquetipo más universal\, pues desde siempre la serpiente ha representado el poder sanador de la naturaleza. El símbolo de la medicina o “caduceo\,” está formado por dos serpientes entrelazadas alrededor de una vara. La serpiente nos enseña a despojarnos de nuestro pasado de la misma forma en que ella muda su piel\, para que podamos caminar con belleza sobre el vientre de la madre.\n\n\n\n\n\nSu cualidad: LA TRANSMUTACIÓN. «El poder de transmutar todos los venenos\, sean mentales\, físicos\, espirituales o emocionales. Cuando deja su piel\, la serpiente encarna el ciclo vida-muerte-renacimiento. Es la energía de la plenitud\, la capacidad de experimentar cualquier cosa de manera voluntaria\, abierta\, y sin resistencias. El saber que aquellas cosas que podrían ser venenosas\, se pueden comer\, ingerir\, integrar y transmutar\, si estas conectada y centrada. Al acceptar todas las partes de tu vida\, puedes acceder a la medicina transmutadora del fuego.\n\n\nEsta energía de fuego\, al nivel material\, crea pasión\, deseo\, procreación y vitalidad. Al nivel emocional\, se convierte en ambición\, creación\, resolución y sueños. Al nivel mental\, se traslada en intelecto\, poder\, carisma y liderazgo. Cuando la energía de la serpiente llega al plano espiritual\, se convierte en sabiduría\, entendimiento\, plenitud y conexión con Gran Espiritu (o la Diosa).\n\n\n\nEs mágia potente\, pero acuérdate que la mágia no es nada más que un cambio de consciencia.\n\n\nConviértete en la Mago/a o la Chaman/a: transmuta la energía y accepta el poder del fuego.\n\n\n\n\nEn el taller aprenderemos sanarnos naturalmente \, escuchar el cuerpo\, descubrir por que enfermamos y que nos dice cuerpo con la enfermedad.\nTaller va dirigido a todas las personas que quieren despertar la energía sanador. (NO es necesario previo de iniciarse en MUNAY KI.)\nQUE: taller grupalDURACIÓN : 4HCUANDO: la energia disponible de la serpiente es 6 de octubre 2024HORARIO : 10- 13hPRECIO : 50€RESERVA : whatsapp 675 27 94 04DONDE: Barcelonacon amornadia cisarova
URL:https://staging.efectodemariposa.com/event/munay-ki-sanacion-de-la-serpiente/
LOCATION:Espai Adarsha\, Girona 166\, ento 3A\, Barcelona\, Barcelona\, 08023\, España
CATEGORIES:Munay Ki
ATTACH;FMTTYPE=image/jpeg:https://staging.efectodemariposa.com/wp-content/uploads/2024/09/munay-serpiente.jpg
END:VEVENT
END:VCALENDAR