BEGIN:VCALENDAR
VERSION:2.0
PRODID:-//Efecto Mariposa - ECPv6.15.20//NONSGML v1.0//EN
CALSCALE:GREGORIAN
METHOD:PUBLISH
X-WR-CALNAME:Efecto Mariposa
X-ORIGINAL-URL:https://staging.efectodemariposa.com
X-WR-CALDESC:Eventos para Efecto Mariposa
REFRESH-INTERVAL;VALUE=DURATION:PT1H
X-Robots-Tag:noindex
X-PUBLISHED-TTL:PT1H
BEGIN:VTIMEZONE
TZID:Europe/Madrid
BEGIN:DAYLIGHT
TZOFFSETFROM:+0100
TZOFFSETTO:+0200
TZNAME:CEST
DTSTART:20240331T010000
END:DAYLIGHT
BEGIN:STANDARD
TZOFFSETFROM:+0200
TZOFFSETTO:+0100
TZNAME:CET
DTSTART:20241027T010000
END:STANDARD
BEGIN:DAYLIGHT
TZOFFSETFROM:+0100
TZOFFSETTO:+0200
TZNAME:CEST
DTSTART:20250330T010000
END:DAYLIGHT
BEGIN:STANDARD
TZOFFSETFROM:+0200
TZOFFSETTO:+0100
TZNAME:CET
DTSTART:20251026T010000
END:STANDARD
BEGIN:DAYLIGHT
TZOFFSETFROM:+0100
TZOFFSETTO:+0200
TZNAME:CEST
DTSTART:20260329T010000
END:DAYLIGHT
BEGIN:STANDARD
TZOFFSETFROM:+0200
TZOFFSETTO:+0100
TZNAME:CET
DTSTART:20261025T010000
END:STANDARD
END:VTIMEZONE
BEGIN:VEVENT
DTSTART;TZID=Europe/Madrid:20250323T100000
DTEND;TZID=Europe/Madrid:20250323T140000
DTSTAMP:20260420T053607
CREATED:20250212T113844Z
LAST-MODIFIED:20250318T160411Z
UID:1489-1742724000-1742738400@staging.efectodemariposa.com
SUMMARY:Taller: Constelando Plutón\, renacer como Ave Fenix
DESCRIPTION:Ante Plutón\, nos paraliza el miedo a la muerte y a la destrucción de la forma física. Se activan todas nuestras defensas para luchar por la supervivencia. No es extraño que intentemos ignorar a Plutón\, pero sus tránsitos nos recuerdan que tanto la vida como la muerte son partes de un mismo ciclo que no podemos evitar. Sin la acción de Plutón\, las formas caducas no se renovarían y no habría vida. \nPlutón también es el planeta encargado de sacar a la luz lo que hay en las profundidades\, nuestra sombra\, para que se airee y se produzca una transformación. Es\, por tanto\, la energía que subyace en las prácticas de sexualidad extrema\, lo que siente el celoso patológico\, y la rabia durante las luchas de poder. \nPero bien utilizado\, es la inteligencia aguda e inquisitiva del buen terapeuta\, que sabe qué decir y cómo decirlo para curar un trauma. También es el tesón y la concentración del investigador que dedica toda su vida a desentrañar cualquier misterio\, terminando por producir un gran avance. \nPlutón rige Escorpio y posee las mismas características del signo: representa el renacimiento después de la muerte\, el Ave Fénix. Simboliza la transformación\, la destrucción seguida de la reconstrucción\, así como la muerte tanto física como psicológica. También su naturaleza está asociada con los deseos\, la intensidad\, el orgasmo\, las sustancias y las motivaciones para superarse. \nLa posición de Plutón en tu carta señala la herida kármica que has venido a sanar. Donde está Plutón\, está la cicatriz palpitando como un tatuaje exótico. Siempre intentamos ocultar esta marca\, pero eventualmente se convierte en una fuerza\, algo que rige nuestra vida\, porque ya no podemos controlar quién lo ve o no. Plutón rige lo que escondemos\, nuestra zona vulnerable y por ende donde el Ego está tratando de compensar. \nNada nos da más poder interno que liberar a Plutón\, que equivale a liberar tu sombra. Una vez que ya no la escondes\, puedes hacer las paces con ella y trabajar con su energía a tu favor. \nQUE HAREMOS EN EL TALLER: \n\nQuién es Plutón\nPlutón por casas \, sombras por sanar\nEl poder de Plutón sobre nosotros\nComo limpiar la herida karmica\nConstelaremos en grupo\nharemos sorteo y constelaremos 1 persona\n\nQue se necesita? \nTu carta astral o saber donde tienes tu Saturno. Si no lo sabes no te preocupes antes de taller te indicaré como sacar la carta. \nReserva tu plaza ✍🏻 \n🗓️ Domingo 23 de Marzo de 10h a 14h\n☎️ 675 279 404\n📧 cisarovnna@gmail.com \n  \nDESCUENTO hasta 28/02/2025 35€ después 45€ \n 
URL:https://staging.efectodemariposa.com/event/taller-constelando-pluton-renacer-como-ave-fenix/
LOCATION:Espai Adarsha\, Girona 166\, ento 3A\, Barcelona\, Barcelona\, 08023\, España
CATEGORIES:Astrologia,Constelaciones Familiares
ORGANIZER;CN="Efecto de Mariposa":MAILTO:cisarovnna@gmail.com
END:VEVENT
BEGIN:VEVENT
DTSTART;TZID=Europe/Madrid:20250323T163000
DTEND;TZID=Europe/Madrid:20250323T193000
DTSTAMP:20260420T053607
CREATED:20250210T080654Z
LAST-MODIFIED:20250226T080142Z
UID:1477-1742747400-1742758200@staging.efectodemariposa.com
SUMMARY:Constelaciones Familiares 23/03
DESCRIPTION:Cada constelación familiar es un evento que toca fondo en nuestra alma. El alma de quien constela\, del constelador\, de los que representan y de los que participan asistiendo.🦋 \n  \n🦋Nadie comparece a un grupo de constelación por casualidad\, cada constelador lo sabe\, por innumerables ejemplos.🦋 \n  \n🦋Hay personas que «por casualidad» fueron invitadas por un amigo y decidieron participar\, otras estaban mirando sus redes sociales y de pronto «se sintieron atraídas» por algo que estaba allí colgado y fueron a ver de qué se trataba. Otras ya lo conocían de oídas y de repente «percibieron que debían participar»; otras nunca habían oído hablar de ello ni sabían de qué se trataba\, pero alguien comentó o les invitó y aun sin saber qué era\, «percibieron que necesitaban comparecer» y fueron\, para participar en una experiencia que transformó su realidad.🦋 \n  \n🦋Si participamos en una constelación es porque hemos sido «llamados» y hay algo que necesitábamos vivenciar a través de aquella constelación. Ya estábamos listos.🦋 \n  \n🦋Por afinidad\, por sintonía llegamos allá\, y quedamos\, como tantos\, impactados por lo que se desveló en el campo.🦋 \n  \n🦋Los comentarios siempre se producen y son semejantes: «aquella constelación parecía hecha para mí»\, «noté que era mi constelación»\, «paso por un problema muy semejante a este»\, «sabía que sería llamado para representar»\, y así sucesivamente.🦋 \n  \nQuieres venir como representante o quieres constelar? \n  \nPrecio: \n  \nRepresentante GRATIS \n  \nCONSTELAR 60€
URL:https://staging.efectodemariposa.com/event/constelaciones-familiares-23-03/
LOCATION:Espai Adarsha\, Girona 166\, ento 3A\, Barcelona\, Barcelona\, 08023\, España
CATEGORIES:Constelaciones Familiares
ATTACH;FMTTYPE=image/webp:https://staging.efectodemariposa.com/wp-content/uploads/2024/07/31907e_e10c6a0ef6ae4055bcb81dcf624a8691mv2.webp
ORGANIZER;CN="Efecto de Mariposa":MAILTO:cisarovnna@gmail.com
END:VEVENT
END:VCALENDAR