BEGIN:VCALENDAR
VERSION:2.0
PRODID:-//Efecto Mariposa - ECPv6.15.20//NONSGML v1.0//EN
CALSCALE:GREGORIAN
METHOD:PUBLISH
X-ORIGINAL-URL:https://staging.efectodemariposa.com
X-WR-CALDESC:Eventos para Efecto Mariposa
REFRESH-INTERVAL;VALUE=DURATION:PT1H
X-Robots-Tag:noindex
X-PUBLISHED-TTL:PT1H
BEGIN:VTIMEZONE
TZID:Europe/Madrid
BEGIN:DAYLIGHT
TZOFFSETFROM:+0100
TZOFFSETTO:+0200
TZNAME:CEST
DTSTART:20240331T010000
END:DAYLIGHT
BEGIN:STANDARD
TZOFFSETFROM:+0200
TZOFFSETTO:+0100
TZNAME:CET
DTSTART:20241027T010000
END:STANDARD
BEGIN:DAYLIGHT
TZOFFSETFROM:+0100
TZOFFSETTO:+0200
TZNAME:CEST
DTSTART:20250330T010000
END:DAYLIGHT
BEGIN:STANDARD
TZOFFSETFROM:+0200
TZOFFSETTO:+0100
TZNAME:CET
DTSTART:20251026T010000
END:STANDARD
BEGIN:DAYLIGHT
TZOFFSETFROM:+0100
TZOFFSETTO:+0200
TZNAME:CEST
DTSTART:20260329T010000
END:DAYLIGHT
BEGIN:STANDARD
TZOFFSETFROM:+0200
TZOFFSETTO:+0100
TZNAME:CET
DTSTART:20261025T010000
END:STANDARD
END:VTIMEZONE
BEGIN:VEVENT
DTSTART;TZID=Europe/Madrid:20250314T183000
DTEND;TZID=Europe/Madrid:20250314T203000
DTSTAMP:20260420T053659
CREATED:20250223T082125Z
LAST-MODIFIED:20250223T084551Z
UID:1539-1741977000-1741984200@staging.efectodemariposa.com
SUMMARY:Reconocer y Sanar la Herida Paterna
DESCRIPTION:TEMA: SANANDO MI HERIDA PATERNA\nTú eres quien eres gracias a una madre y a un padre que se “unieron” para darte la vida. \nEres 50% mamá y 50% papá\, energía femenina y energía masculina. No puedes excluir ni rechazar a ninguno de los dos\, por este motivo es necesario tomar a la madre y tomar al padre por igual. \nTomar a la madre nos lleva al éxito\, la salud\, el dinero y la pareja. \nTomar al padre\, nos ayuda a salir  al “mundo” y a tener éxito en el trabajo. \nTomar a ambos nos lleva a vivir en plenitud.. \nEn las constelaciones familiares\, el padre es:\n\nLa autoridad\, firmeza\, decisión.\nDe él tomas la fuerza para conseguir tus objetivos.\nTe permiten poner límites.\nAyudan a saber de dónde vienes y enfocarte a dónde vas.\nOfrece usar tus capacidades a todos los niveles.\nLa posibilidad de tomar la energía del mundo\, que te hace ir hacia fuera.\nConcretar proyectos\, salir del nido\, avanzar en tu vida\nEnfocarte en la parte más social y laboral.\nLa ayuda para tener un pensamiento lógico\, lineal y matemático.\nLa determinación a empezar nuevas relaciones\, emigrar\, cambiar de trabajo para prosperar…\n\nTotal… que si te enfadas con tu padre\, lo rechazas o lo excluyes\, estás rechazando a la mitad de ti. \nNo tomar al padre hace que mirar hacia tu futuro y avanzar sea muy complicado. \nLa herida del padre hace referencia a la influencia que la figura paterna tiene en el desarrollo emocional y psicológico de un individuo. Esta herida puede surgir a partir de experiencias negativas o ausencia de la figura paterna durante la infancia\, lo que puede impactar en la autoestima\, la identidad y la forma en que se establecen relaciones interpersonales a lo largo de la vida. Es importante señalar que la herida del padre no necesariamente se limita a la relación con la figura paterna biológica\, ya que también puede estar relacionada con otros modelos de paternidad que hayan ejercido influencia en la vida de la persona\, como figuras de cuidado o mentores. \n  \nEl impacto de la herida del padre en las relaciones personales puede ser profundo y duradero. La ausencia emocional o física de un padre puede afectar la capacidad de una persona para establecer y mantener relaciones saludables. Los sentimientos de abandono\, inseguridad y falta de autoestima pueden surgir como resultado de esta herida\, lo que a su vez puede influir en la forma en que la persona se relaciona con los demás. \nEn esta especial edición vamos hablar sobre heridas que puede causarnos el PADRE \, ausente emocionalmente o físicamente. O\, si el padre está en el hogar\, es muy crítico con sus hijos y puede llegar a ser abusivo física o emocionalmente. \nEN QUE CONSISTE EL TALLER: \n\nReconocer heridas de padre\nmeditación\nconstelación\nejercicios de sanación\ncarta al papá\n\nPRECIO: 30€ \nReserva tu plaza ✍🏻 \n🗓️ Miércoles 14 de Marzo de 18:30h a 20:30h\n☎️ 675 279 404\n📧 cisarovnna@gmail.com
URL:https://staging.efectodemariposa.com/event/reconocer-y-sanar-la-herida-paterna/
LOCATION:Espai Adarsha\, Girona 166\, ento 3A\, Barcelona\, Barcelona\, 08023\, España
CATEGORIES:Constelaciones Familiares
ATTACH;FMTTYPE=image/jpeg:https://staging.efectodemariposa.com/wp-content/uploads/2025/02/Protegerte-amarte…-guiarte_-Papa_.jpg
ORGANIZER;CN="Efecto de Mariposa":MAILTO:cisarovnna@gmail.com
END:VEVENT
END:VCALENDAR