BEGIN:VCALENDAR
VERSION:2.0
PRODID:-//Efecto Mariposa - ECPv6.15.20//NONSGML v1.0//EN
CALSCALE:GREGORIAN
METHOD:PUBLISH
X-ORIGINAL-URL:https://staging.efectodemariposa.com
X-WR-CALDESC:Eventos para Efecto Mariposa
REFRESH-INTERVAL;VALUE=DURATION:PT1H
X-Robots-Tag:noindex
X-PUBLISHED-TTL:PT1H
BEGIN:VTIMEZONE
TZID:Europe/Madrid
BEGIN:DAYLIGHT
TZOFFSETFROM:+0100
TZOFFSETTO:+0200
TZNAME:CEST
DTSTART:20240331T010000
END:DAYLIGHT
BEGIN:STANDARD
TZOFFSETFROM:+0200
TZOFFSETTO:+0100
TZNAME:CET
DTSTART:20241027T010000
END:STANDARD
BEGIN:DAYLIGHT
TZOFFSETFROM:+0100
TZOFFSETTO:+0200
TZNAME:CEST
DTSTART:20250330T010000
END:DAYLIGHT
BEGIN:STANDARD
TZOFFSETFROM:+0200
TZOFFSETTO:+0100
TZNAME:CET
DTSTART:20251026T010000
END:STANDARD
BEGIN:DAYLIGHT
TZOFFSETFROM:+0100
TZOFFSETTO:+0200
TZNAME:CEST
DTSTART:20260329T010000
END:DAYLIGHT
BEGIN:STANDARD
TZOFFSETFROM:+0200
TZOFFSETTO:+0100
TZNAME:CET
DTSTART:20261025T010000
END:STANDARD
END:VTIMEZONE
BEGIN:VEVENT
DTSTART;TZID=Europe/Madrid:20250312T200000
DTEND;TZID=Europe/Madrid:20250312T220000
DTSTAMP:20260420T053728
CREATED:20250223T084427Z
LAST-MODIFIED:20250223T084427Z
UID:1544-1741809600-1741816800@staging.efectodemariposa.com
SUMMARY:Taller ONLINE: Constelando el Saturno\, limpiando el Karma
DESCRIPTION:Saturno\, el Señor del Karma y  del tiempo es quien nos hace pagar a lo largo de la vida todas nuestras cuentas. Todo lo tiene perfectamente contabilizado en su gran libro. Y es quien nos enseña que todo tiene su tiempo. \nSaturno\, el gran Maestro nos habla siempre de cual es la lección real a aprender. \nAllí trataremos qué significa Tu Saturno natal; la figura del autoritaria y cómo se experimenta esa relación desde la Astrología y en las constelaciones.\n¿Te preguntas para qué?\nPara reconocer tu propia autoridad\, sanar las heridas que puedas haber tenido con la autoridad de la familia en tu vida y abrir el camino hacia la prosperidad y hacia tu propia libertad.\n“Saturno\, dentro de nuestro sistema familiar” \nLa figura saturnina habla de la imagen del padre o de la madre o cualquier otro miembro de la familia que representa autoridad en su función estructuradora y de proyección de la familia en la sociedad\, sobre todo en cuanto a la educación\, a la transmisión de valores sociales y la manutención material de los hijos. \nSaturno simboliza a la madre especialmente en los casos en que ella asumió responsabilidad como “cabeza de familia” por quedar viuda o separada del padre siendo joven\, por ejemplo. En este taller vamos a trabajar la figura de autoridad\, figura que\, aunque normalmente esté vinculada al padre. También Saturno simboliza a los abuelos\, profesores\, tíos\, abuelos\, etc. en general\, y a las figuras de autoridad. \n\n¿Te resulta difícil comprometerte en las relaciones?\n¿Tienes asuntos pendientes con «la cabeza de la familia»?\n¿Con qué mandatos ancestrales cargamos?\n¿Luchas con figuras de autoridad en el trabajo?\n¿Quieres hacer las paces con un padre/madre/abuelos ausente o fallecido?\n¿Es difícil para ti poner límites?\n¿Sientes que el tiempo es tu amigo?\n¿Cómo gestionas la frustración?\n\nEstas y muchas mas preguntas haremos para saber cómo te llevas con la energía de SATURNO. \nAllí donde tengamos a Saturno situado en nuestra carta nos indicará el área de vida donde vamos a tener que desarrollar una maestría. Será un área de vida compleja al principio y luego\, si hacemos bien la tarea\, nos haremos expertos; precisamente por todo lo que nos hemos tenido que esforzar. \nLos aspectos que tenga nuestro Saturno con otros planetas nos indicarán el trabajo que deberemos de realizar para armonizar los desajustes entre las diferentes funciones. De esta manera sacaremos provecho de lo que\, inicialmente\, parecía “bloqueo o mala suerte”. \n  \nQUE HAREMOS EN EL TALLER: \n\nQuién es Saturno\nSaturno por casas y Maestría a desarrollar\nLos mandatos saturninos\nComo pasar de la karma a dharma\nConstelaremos en grupo\nharemos sorteo de 1 constelación online\n\nQue se necesita? \nTu carta astral o saber donde tienes tu Saturno. Si no lo sabes no te preocupes antes de taller te indicaré como sacar la carta. \nReserva tu plaza ✍🏻 \n🗓️ Miércoles 12 de Marzo de 20h a 22h\n☎️ 675 279 404\n📧 cisarovnna@gmail.com \n 
URL:https://staging.efectodemariposa.com/event/taller-online-constelando-el-saturno-limpiando-el-karma/
CATEGORIES:Astrologia,Constelaciones Familiares
ATTACH;FMTTYPE=image/jpeg:https://staging.efectodemariposa.com/wp-content/uploads/2025/02/saturno.jpg
END:VEVENT
END:VCALENDAR