BEGIN:VCALENDAR
VERSION:2.0
PRODID:-//Efecto Mariposa - ECPv6.15.20//NONSGML v1.0//EN
CALSCALE:GREGORIAN
METHOD:PUBLISH
X-ORIGINAL-URL:https://staging.efectodemariposa.com
X-WR-CALDESC:Eventos para Efecto Mariposa
REFRESH-INTERVAL;VALUE=DURATION:PT1H
X-Robots-Tag:noindex
X-PUBLISHED-TTL:PT1H
BEGIN:VTIMEZONE
TZID:Europe/Madrid
BEGIN:DAYLIGHT
TZOFFSETFROM:+0100
TZOFFSETTO:+0200
TZNAME:CEST
DTSTART:20240331T010000
END:DAYLIGHT
BEGIN:STANDARD
TZOFFSETFROM:+0200
TZOFFSETTO:+0100
TZNAME:CET
DTSTART:20241027T010000
END:STANDARD
BEGIN:DAYLIGHT
TZOFFSETFROM:+0100
TZOFFSETTO:+0200
TZNAME:CEST
DTSTART:20250330T010000
END:DAYLIGHT
BEGIN:STANDARD
TZOFFSETFROM:+0200
TZOFFSETTO:+0100
TZNAME:CET
DTSTART:20251026T010000
END:STANDARD
BEGIN:DAYLIGHT
TZOFFSETFROM:+0100
TZOFFSETTO:+0200
TZNAME:CEST
DTSTART:20260329T010000
END:DAYLIGHT
BEGIN:STANDARD
TZOFFSETFROM:+0200
TZOFFSETTO:+0100
TZNAME:CET
DTSTART:20261025T010000
END:STANDARD
END:VTIMEZONE
BEGIN:VEVENT
DTSTART;TZID=Europe/Madrid:20250310T200000
DTEND;TZID=Europe/Madrid:20250310T210000
DTSTAMP:20260420T053703
CREATED:20250212T115134Z
LAST-MODIFIED:20250212T115134Z
UID:1493-1741636800-1741640400@staging.efectodemariposa.com
SUMMARY:PON AL CIELO A TRABAJAR - Sanar desde la herida
DESCRIPTION:Ya sabemos que los planetas nos influyen de cierta manera. Pero que pasaría si tu podrías dominar tus planetas? \n\nEl cielo empezaría trabajar para ti\nTe pasarían cosas buenas en la vida\nTe sentirás privilegiad@\n\nDesde enero 2025 haré un lunes al mes el curso online » Pon el cielo a trabajar».\nAllí aprenderemos a dominar los planetas\, eliminamos creencia y reforzamos autoestima para poder disfrutar de sus privilegios. \nDISFRUTA DE UNA VIDA MARAVILLOSA QUE TE TIENE PREPARADO EL UNIVERSO. \nSanar desde la herida – Identificamos las heridas y como esta herida nos puede ayudar sanar otros.  \nCUANDO: un lunes del mes 10 de marzo 2025\nHORARIOS: 20 – 21h\nPRECIO: 10€\nMODALIDAD: online
URL:https://staging.efectodemariposa.com/event/pon-al-cielo-a-trabajar-sanar-desde-la-herida/
CATEGORIES:Astrologia,Constelaciones Familiares
ATTACH;FMTTYPE=image/jpeg:https://staging.efectodemariposa.com/wp-content/uploads/2025/01/Astrologia-para-Iniciantes_-Por-Onde-Comecar-e1735727568921.jpeg
ORGANIZER;CN="Efecto de Mariposa":MAILTO:cisarovnna@gmail.com
END:VEVENT
END:VCALENDAR