BEGIN:VCALENDAR
VERSION:2.0
PRODID:-//Efecto Mariposa - ECPv6.15.20//NONSGML v1.0//EN
CALSCALE:GREGORIAN
METHOD:PUBLISH
X-WR-CALNAME:Efecto Mariposa
X-ORIGINAL-URL:https://staging.efectodemariposa.com
X-WR-CALDESC:Eventos para Efecto Mariposa
REFRESH-INTERVAL;VALUE=DURATION:PT1H
X-Robots-Tag:noindex
X-PUBLISHED-TTL:PT1H
BEGIN:VTIMEZONE
TZID:Europe/Madrid
BEGIN:DAYLIGHT
TZOFFSETFROM:+0100
TZOFFSETTO:+0200
TZNAME:CEST
DTSTART:20240331T010000
END:DAYLIGHT
BEGIN:STANDARD
TZOFFSETFROM:+0200
TZOFFSETTO:+0100
TZNAME:CET
DTSTART:20241027T010000
END:STANDARD
BEGIN:DAYLIGHT
TZOFFSETFROM:+0100
TZOFFSETTO:+0200
TZNAME:CEST
DTSTART:20250330T010000
END:DAYLIGHT
BEGIN:STANDARD
TZOFFSETFROM:+0200
TZOFFSETTO:+0100
TZNAME:CET
DTSTART:20251026T010000
END:STANDARD
BEGIN:DAYLIGHT
TZOFFSETFROM:+0100
TZOFFSETTO:+0200
TZNAME:CEST
DTSTART:20260329T010000
END:DAYLIGHT
BEGIN:STANDARD
TZOFFSETFROM:+0200
TZOFFSETTO:+0100
TZNAME:CET
DTSTART:20261025T010000
END:STANDARD
END:VTIMEZONE
BEGIN:VEVENT
DTSTART;TZID=Europe/Madrid:20250706T163000
DTEND;TZID=Europe/Madrid:20250706T193000
DTSTAMP:20260419T212709
CREATED:20250625T153343Z
LAST-MODIFIED:20250625T153343Z
UID:2024-1751819400-1751830200@staging.efectodemariposa.com
SUMMARY:Constelaciones Familiares 06/07
DESCRIPTION:Cada constelación familiar es un evento que toca fondo en nuestra alma. El alma de quien constela\, del constelador\, de los que representan y de los que participan asistiendo.🦋 \n  \n🦋Nadie comparece a un grupo de constelación por casualidad\, cada constelador lo sabe\, por innumerables ejemplos.🦋 \n  \n🦋Hay personas que «por casualidad» fueron invitadas por un amigo y decidieron participar\, otras estaban mirando sus redes sociales y de pronto «se sintieron atraídas» por algo que estaba allí colgado y fueron a ver de qué se trataba. Otras ya lo conocían de oídas y de repente «percibieron que debían participar»; otras nunca habían oído hablar de ello ni sabían de qué se trataba\, pero alguien comentó o les invitó y aun sin saber qué era\, «percibieron que necesitaban comparecer» y fueron\, para participar en una experiencia que transformó su realidad.🦋 \n  \n🦋Si participamos en una constelación es porque hemos sido «llamados» y hay algo que necesitábamos vivenciar a través de aquella constelación. Ya estábamos listos.🦋 \n  \n🦋Por afinidad\, por sintonía llegamos allá\, y quedamos\, como tantos\, impactados por lo que se desveló en el campo.🦋 \n  \n🦋Los comentarios siempre se producen y son semejantes: «aquella constelación parecía hecha para mí»\, «noté que era mi constelación»\, «paso por un problema muy semejante a este»\, «sabía que sería llamado para representar»\, y así sucesivamente.🦋 \n  \nQuieres venir como representante o quieres constelar? \n  \nPrecio: \nRepresentante GRATIS \nCONSTELAR 60€
URL:https://staging.efectodemariposa.com/event/constelaciones-familiares-06-07/
LOCATION:Espai Adarsha\, Girona 166\, ento 3A\, Barcelona\, Barcelona\, 08023\, España
CATEGORIES:Constelaciones Familiares
ATTACH;FMTTYPE=image/jpeg:https://staging.efectodemariposa.com/wp-content/uploads/2024/07/DgHik52X0AAxvuP.jpg
ORGANIZER;CN="Efecto de Mariposa":MAILTO:cisarovnna@gmail.com
END:VEVENT
BEGIN:VEVENT
DTSTART;TZID=Europe/Madrid:20250712T100000
DTEND;TZID=Europe/Madrid:20250712T200000
DTSTAMP:20260419T212709
CREATED:20250625T081908Z
LAST-MODIFIED:20250625T082336Z
UID:2003-1752314400-1752350400@staging.efectodemariposa.com
SUMMARY:Constelaciones Familiares en CADIZ 12/7
DESCRIPTION:Cada constelación familiar es un evento que toca fondo en nuestra alma. El alma de quien constela\, del constelador\, de los que representan y de los que participan asistiendo.🦋 \n  \n🦋Nadie comparece a un grupo de constelación por casualidad\, cada constelador lo sabe\, por innumerables ejemplos.🦋 \n  \n🦋Hay personas que «por casualidad» fueron invitadas por un amigo y decidieron participar\, otras estaban mirando sus redes sociales y de pronto «se sintieron atraídas» por algo que estaba allí colgado y fueron a ver de qué se trataba. Otras ya lo conocían de oídas y de repente «percibieron que debían participar»; otras nunca habían oído hablar de ello ni sabían de qué se trataba\, pero alguien comentó o les invitó y aun sin saber qué era\, «percibieron que necesitaban comparecer» y fueron\, para participar en una experiencia que transformó su realidad.🦋 \n  \n🦋Si participamos en una constelación es porque hemos sido «llamados» y hay algo que necesitábamos vivenciar a través de aquella constelación. Ya estábamos listos.🦋 \n  \n🦋Por afinidad\, por sintonía llegamos allá\, y quedamos\, como tantos\, impactados por lo que se desveló en el campo.🦋 \n  \n🦋Los comentarios siempre se producen y son semejantes: «aquella constelación parecía hecha para mí»\, «noté que era mi constelación»\, «paso por un problema muy semejante a este»\, «sabía que sería llamado para representar»\, y así sucesivamente.🦋 \nHORARIOS: dos turnos \nPor la mañana de 10h a 13h \nPor la tarde de 17h a 20h \nQuieres venir como representante o quieres constelar? \nPrecio: \nRepresentante GRATIS \nCONSTELAR 80€ \n  \nOrganizado por SO HAM YOGA CADIZ \nreservas whatsapp : Sonia: 608126686 o Nadia : 675 279 404
URL:https://staging.efectodemariposa.com/event/constelaciones-familiares-en-cadiz-12-7/
LOCATION:So Ham Yoga\, c/ Algarrobos 64\, LOS BARRIOS\, CADIZ\, Cadiz\, 11370\, Spain
CATEGORIES:Constelaciones Familiares
ATTACH;FMTTYPE=image/jpeg:https://staging.efectodemariposa.com/wp-content/uploads/2025/05/667a748783c4873b0a7d948b4d334b58.jpg
END:VEVENT
BEGIN:VEVENT
DTSTART;TZID=Europe/Madrid:20250713T110000
DTEND;TZID=Europe/Madrid:20250713T210000
DTSTAMP:20260419T212709
CREATED:20250706T114044Z
LAST-MODIFIED:20250706T114044Z
UID:2041-1752404400-1752440400@staging.efectodemariposa.com
SUMMARY:Constelaciones familiares en PALAFOLLS 13/7
DESCRIPTION:Edición especial de Constelaciones Familiares. \nEs el final de curso donde podrás elegir si quieres constelar con mis alumnos o conmigo. \nHORARIOS: 11h – 14h turno mañana y 16-19h turno tarde \nPOR FAVOR CONFIRMAR POR WHATSAPP TURNO MAÑANA O TARDE \nWHATSAPP 675 279 404 \nCada constelación familiar es un evento que toca fondo en nuestra alma. El alma de quien constela\, del constelador\, de los que representan y de los que participan asistiendo.🦋 \n🦋Nadie comparece a un grupo de constelación por casualidad\, cada constelador lo sabe\, por innumerables ejemplos.🦋 \n🦋Hay personas que «por casualidad» fueron invitadas por un amigo y decidieron participar\, otras estaban mirando sus redes sociales y de pronto «se sintieron atraídas» por algo que estaba allí colgado y fueron a ver de qué se trataba. Otras ya lo conocían de oídas y de repente «percibieron que debían participar»; otras nunca habían oído hablar de ello ni sabían de qué se trataba\, pero alguien comentó o les invitó y aun sin saber qué era\, «percibieron que necesitaban comparecer» y fueron\, para participar en una experiencia que transformó su realidad.🦋 \n🦋Si participamos en una constelación es porque hemos sido «llamados» y hay algo que necesitábamos vivenciar a través de aquella constelación. Ya estábamos listos.🦋 \n🦋Por afinidad\, por sintonía llegamos allá\, y quedamos\, como tantos\, impactados por lo que se desveló en el campo.🦋 \n🦋Los comentarios siempre se producen y son semejantes: «aquella constelación parecía hecha para mí»\, «noté que era mi constelación»\, «paso por un problema muy semejante a este»\, «sabía que sería llamado para representar»\, y así sucesivamente.🦋 \nQuieres venir como representante o quieres constelar? \nPrecio: \nRepresentante GRATIS \nCONSTELAR con Nadia Cisarova 60€ \nConstelar con alumnos 30€
URL:https://staging.efectodemariposa.com/event/constelaciones-familiares-en-palafolls-13-7/
LOCATION:Palafolls\, Calle Ramón Turro \, 13\, Palafolls\, Barcelona\, Spain
CATEGORIES:Constelaciones Familiares
ORGANIZER;CN="Efecto de Mariposa":MAILTO:cisarovnna@gmail.com
END:VEVENT
BEGIN:VEVENT
DTSTART;TZID=Europe/Madrid:20250720T163000
DTEND;TZID=Europe/Madrid:20250720T193000
DTSTAMP:20260419T212710
CREATED:20250625T153657Z
LAST-MODIFIED:20250707T155444Z
UID:2028-1753029000-1753039800@staging.efectodemariposa.com
SUMMARY:Constelaciones Familiares 20/07
DESCRIPTION:Cada constelación familiar es un evento que toca fondo en nuestra alma. El alma de quien constela\, del constelador\, de los que representan y de los que participan asistiendo.🦋 \n  \n🦋Nadie comparece a un grupo de constelación por casualidad\, cada constelador lo sabe\, por innumerables ejemplos.🦋 \n  \n🦋Hay personas que «por casualidad» fueron invitadas por un amigo y decidieron participar\, otras estaban mirando sus redes sociales y de pronto «se sintieron atraídas» por algo que estaba allí colgado y fueron a ver de qué se trataba. Otras ya lo conocían de oídas y de repente «percibieron que debían participar»; otras nunca habían oído hablar de ello ni sabían de qué se trataba\, pero alguien comentó o les invitó y aun sin saber qué era\, «percibieron que necesitaban comparecer» y fueron\, para participar en una experiencia que transformó su realidad.🦋 \n  \n🦋Si participamos en una constelación es porque hemos sido «llamados» y hay algo que necesitábamos vivenciar a través de aquella constelación. Ya estábamos listos.🦋 \n  \n🦋Por afinidad\, por sintonía llegamos allá\, y quedamos\, como tantos\, impactados por lo que se desveló en el campo.🦋 \n  \n🦋Los comentarios siempre se producen y son semejantes: «aquella constelación parecía hecha para mí»\, «noté que era mi constelación»\, «paso por un problema muy semejante a este»\, «sabía que sería llamado para representar»\, y así sucesivamente.🦋 \n  \nQuieres venir como representante o quieres constelar? \n  \nPrecio: \n  \nRepresentante GRATIS \n  \nCONSTELAR 60€
URL:https://staging.efectodemariposa.com/event/constelaciones-familiares-27-06/
LOCATION:Espai Adarsha\, Girona 166\, ento 3A\, Barcelona\, Barcelona\, 08023\, España
CATEGORIES:Constelaciones Familiares
ORGANIZER;CN="Efecto de Mariposa":MAILTO:cisarovnna@gmail.com
END:VEVENT
END:VCALENDAR