BEGIN:VCALENDAR
VERSION:2.0
PRODID:-//Efecto Mariposa - ECPv6.15.20//NONSGML v1.0//EN
CALSCALE:GREGORIAN
METHOD:PUBLISH
X-ORIGINAL-URL:https://staging.efectodemariposa.com
X-WR-CALDESC:Eventos para Efecto Mariposa
REFRESH-INTERVAL;VALUE=DURATION:PT1H
X-Robots-Tag:noindex
X-PUBLISHED-TTL:PT1H
BEGIN:VTIMEZONE
TZID:Europe/Madrid
BEGIN:DAYLIGHT
TZOFFSETFROM:+0100
TZOFFSETTO:+0200
TZNAME:CEST
DTSTART:20230326T010000
END:DAYLIGHT
BEGIN:STANDARD
TZOFFSETFROM:+0200
TZOFFSETTO:+0100
TZNAME:CET
DTSTART:20231029T010000
END:STANDARD
BEGIN:DAYLIGHT
TZOFFSETFROM:+0100
TZOFFSETTO:+0200
TZNAME:CEST
DTSTART:20240331T010000
END:DAYLIGHT
BEGIN:STANDARD
TZOFFSETFROM:+0200
TZOFFSETTO:+0100
TZNAME:CET
DTSTART:20241027T010000
END:STANDARD
BEGIN:DAYLIGHT
TZOFFSETFROM:+0100
TZOFFSETTO:+0200
TZNAME:CEST
DTSTART:20250330T010000
END:DAYLIGHT
BEGIN:STANDARD
TZOFFSETFROM:+0200
TZOFFSETTO:+0100
TZNAME:CET
DTSTART:20251026T010000
END:STANDARD
END:VTIMEZONE
BEGIN:VTIMEZONE
TZID:Europe/Paris
BEGIN:DAYLIGHT
TZOFFSETFROM:+0100
TZOFFSETTO:+0200
TZNAME:CEST
DTSTART:20230326T010000
END:DAYLIGHT
BEGIN:STANDARD
TZOFFSETFROM:+0200
TZOFFSETTO:+0100
TZNAME:CET
DTSTART:20231029T010000
END:STANDARD
BEGIN:DAYLIGHT
TZOFFSETFROM:+0100
TZOFFSETTO:+0200
TZNAME:CEST
DTSTART:20240331T010000
END:DAYLIGHT
BEGIN:STANDARD
TZOFFSETFROM:+0200
TZOFFSETTO:+0100
TZNAME:CET
DTSTART:20241027T010000
END:STANDARD
BEGIN:DAYLIGHT
TZOFFSETFROM:+0100
TZOFFSETTO:+0200
TZNAME:CEST
DTSTART:20250330T010000
END:DAYLIGHT
BEGIN:STANDARD
TZOFFSETFROM:+0200
TZOFFSETTO:+0100
TZNAME:CET
DTSTART:20251026T010000
END:STANDARD
END:VTIMEZONE
BEGIN:VEVENT
DTSTART;TZID=Europe/Madrid:20241207T170000
DTEND;TZID=Europe/Madrid:20241207T200000
DTSTAMP:20260420T082525
CREATED:20241112T095238Z
LAST-MODIFIED:20241203T085134Z
UID:1053-1733590800-1733601600@staging.efectodemariposa.com
SUMMARY:TALLER ONLINE: ENFERMEDADES SEGÚN CONSTELACIONES FAMILIARES
DESCRIPTION:¿Sabías que la enfermedad\, bien mirada\, es nuestra gran ALIADA? \nSi\, lo sé. Es difícil de creer y sé que vas a echarte las manos a la cabeza.\nTambién sé que es una aliada incómoda y\, a veces\, muy complicada. \nPero todo lo que pasa en tu cuerpo tiene un tiene un sentido. \n  \nNuestro cuerpo nos habla a través de la enfermedad\nY casi\, casi nos grita cuando se trata de una enfermedad que se repite en nuestro sistema familiar. \nEs su manera de decirnos que hay algo en nuestro sistema que necesita ser resuelto. \nY normalmente es un ancestro que quiere que le miremos. \n\n¿Cómo sanar las enfermedades que se repiten en nuestro sistema familiar?\nPodemos librarnos de las enfermedades que se repiten en nuestro sistema familiar a través de las Constelaciones Familiares. \nLas Constelaciones Familiares nos permiten ver que detrás de cada enfermedad hay una necesidad de sanar el sistema familiar y en muchas ocasiones tiene que ver con devolver el lugar que le corresponde a algún ancestro que ha sido excluido. \nCuando hemos visto\, abrazado e incluido a nuestro ancestro\, se recupera el equilibrio en la salud. \n  \nEn otras ocasiones\, cuando en la familias se repiten enfermedades de una generación a otra\, puede verse que se trata de un deseo de quien la tiene de liberar a los ancestros de una carga que solo ellos pueden llevar. \nQue vamos aprender en el taller: \n\nQue son las enfermedades\nOrigen de las enfermedades\ncomo detectar enfermedad heredado de clan\nIdentificar enfermedades y sus orígenes en nuestro clan\nResolución\nPreguntas y respuestas\n\nFecha: 7 de diciembre 2024 \nHorario: 17h – 20h \nModalidad. ONLINE \nPrecio 45€
URL:https://staging.efectodemariposa.com/event/taller-online-enfermedades-segunconstelaciones-familiares/
CATEGORIES:Constelaciones Familiares
ATTACH;FMTTYPE=image/png:https://staging.efectodemariposa.com/wp-content/uploads/2024/11/Enfermedades-segun-constelaciones-familiares_20241104_141641_0000-png.webp
END:VEVENT
BEGIN:VEVENT
DTSTART;TZID=Europe/Paris:20241208T163000
DTEND;TZID=Europe/Paris:20241208T193000
DTSTAMP:20260420T082525
CREATED:20241020T185452Z
LAST-MODIFIED:20241101T090340Z
UID:807-1733675400-1733686200@staging.efectodemariposa.com
SUMMARY:Constelaciones Familiares 8/12
DESCRIPTION:Cada constelación familiar es un evento que toca fondo en nuestra alma. El alma de quien constela\, del constelador\, de los que representan y de los que participan asistiendo.🦋 \n🦋Nadie comparece a un grupo de constelación por casualidad\, cada constelador lo sabe\, por innumerables ejemplos.🦋 \n🦋Hay personas que «por casualidad» fueron invitadas por un amigo y decidieron participar\, otras estaban mirando sus redes sociales y de pronto «se sintieron atraídas» por algo que estaba allí colgado y fueron a ver de qué se trataba. Otras ya lo conocían de oídas y de repente «percibieron que debían participar»; otras nunca habían oído hablar de ello ni sabían de qué se trataba\, pero alguien comentó o les invitó y aun sin saber qué era\, «percibieron que necesitaban comparecer» y fueron\, para participar en una experiencia que transformó su realidad.🦋 \n🦋Si participamos en una constelación es porque hemos sido «llamados» y hay algo que necesitábamos vivenciar a través de aquella constelación. Ya estábamos listos.🦋 \n🦋Por afinidad\, por sintonía llegamos allá\, y quedamos\, como tantos\, impactados por lo que se desveló en el campo.🦋 \n🦋Los comentarios siempre se producen y son semejantes: «aquella constelación parecía hecha para mí»\, «noté que era mi constelación»\, «paso por un problema muy semejante a este»\, «sabía que sería llamado para representar»\, y así sucesivamente.🦋 \nQuieres venir como representante o quieres constelar? \nPrecio: \nRepresentante GRATIS \nCONSTELAR 50€ \nCONSTELAR con carta astral 110€
URL:https://staging.efectodemariposa.com/event/constelaciones-familiares-8-12/
LOCATION:Espai Adarsha\, Girona 166\, ento 3A\, Barcelona\, Barcelona\, 08023\, España
CATEGORIES:Constelaciones Familiares
ATTACH;FMTTYPE=image/webp:https://staging.efectodemariposa.com/wp-content/uploads/2024/07/31907e_e7acfa5174dd47da96e9abba02b4581dmv2.webp
ORGANIZER;CN="Efecto de Mariposa":MAILTO:cisarovnna@gmail.com
END:VEVENT
BEGIN:VEVENT
DTSTART;TZID=Europe/Paris:20241214T170000
DTEND;TZID=Europe/Paris:20241214T200000
DTSTAMP:20260420T082525
CREATED:20241101T110254Z
LAST-MODIFIED:20241209T123910Z
UID:908-1734195600-1734206400@staging.efectodemariposa.com
SUMMARY:TALLER ONLINE: VIAJE A LOS ORIGENES
DESCRIPTION:Mis ancestros y yo: ¿De qué manera me afectan sus secretos\, traumas y duelos sin resolver?\nEste taller es ONLINE \nAl parecer no somos tan libres de decidir algunas cuestiones de nuestra vida como nos gustaría\, sino que hay lazos invisibles que nos llevan a repetir algunas situaciones\, actuar de tal o cual manera e incluso a enfermar. Pero no todo está perdido: hacer conciente la raíz de un conflicto es el punto para empezar a sanar y para ello hay varios caminos posibles \n\nEn este taller vamos a ver modos como nos pueden afectar los ancestros.\nQue son las lealtades y mandatos\nVeremos con quien de nuestro clan tenemos  la lealtad.\nRecibirás tu carta ancestral\nEjercicios de constelaciones\nmeditación\n\nFECHA: 14 de diciembre 2024 \nHORARIO: de 17:00 – 20:00 hora ESPAÑA \nPRECIO: 60€ \nAntes de 30 de noviembre 45€ \nMas  info: 0034 675279404
URL:https://staging.efectodemariposa.com/event/taller-online-viaje-a-los-origenes/
CATEGORIES:Constelaciones Familiares
ATTACH;FMTTYPE=image/png:https://staging.efectodemariposa.com/wp-content/uploads/2024/11/Brown-Art-Craft-Workshop-Flyer-Post-de-Instagram_20241102_131626_0000.png
ORGANIZER;CN="Efecto de Mariposa":MAILTO:cisarovnna@gmail.com
END:VEVENT
BEGIN:VEVENT
DTSTART;TZID=Europe/Paris:20241215T163000
DTEND;TZID=Europe/Paris:20241215T193000
DTSTAMP:20260420T082526
CREATED:20241020T185836Z
LAST-MODIFIED:20241210T071347Z
UID:811-1734280200-1734291000@staging.efectodemariposa.com
SUMMARY:Constelaciones Familiares 15/12
DESCRIPTION:Cada constelación familiar es un evento que toca fondo en nuestra alma. El alma de quien constela\, del constelador\, de los que representan y de los que participan asistiendo.🦋 \n🦋Nadie comparece a un grupo de constelación por casualidad\, cada constelador lo sabe\, por innumerables ejemplos.🦋 \n🦋Hay personas que «por casualidad» fueron invitadas por un amigo y decidieron participar\, otras estaban mirando sus redes sociales y de pronto «se sintieron atraídas» por algo que estaba allí colgado y fueron a ver de qué se trataba. Otras ya lo conocían de oídas y de repente «percibieron que debían participar»; otras nunca habían oído hablar de ello ni sabían de qué se trataba\, pero alguien comentó o les invitó y aun sin saber qué era\, «percibieron que necesitaban comparecer» y fueron\, para participar en una experiencia que transformó su realidad.🦋 \n🦋Si participamos en una constelación es porque hemos sido «llamados» y hay algo que necesitábamos vivenciar a través de aquella constelación. Ya estábamos listos.🦋 \n🦋Por afinidad\, por sintonía llegamos allá\, y quedamos\, como tantos\, impactados por lo que se desveló en el campo.🦋 \n🦋Los comentarios siempre se producen y son semejantes: «aquella constelación parecía hecha para mí»\, «noté que era mi constelación»\, «paso por un problema muy semejante a este»\, «sabía que sería llamado para representar»\, y así sucesivamente.🦋 \nQuieres venir como representante o quieres constelar? \nPrecio: \nRepresentante GRATIS \nCONSTELAR 50€ \nCONSTELAR con carta astral 110€
URL:https://staging.efectodemariposa.com/event/constelaciones-familiares-15-12/
LOCATION:Espai Adarsha\, Girona 166\, ento 3A\, Barcelona\, Barcelona\, 08023\, España
CATEGORIES:Constelaciones Familiares
ATTACH;FMTTYPE=image/webp:https://staging.efectodemariposa.com/wp-content/uploads/2024/07/31907e_5947fe663fe346498f9b636f29a3c496mv2.webp
ORGANIZER;CN="Efecto de Mariposa":MAILTO:cisarovnna@gmail.com
END:VEVENT
END:VCALENDAR