BEGIN:VCALENDAR
VERSION:2.0
PRODID:-//Efecto Mariposa - ECPv6.15.20//NONSGML v1.0//EN
CALSCALE:GREGORIAN
METHOD:PUBLISH
X-ORIGINAL-URL:https://staging.efectodemariposa.com
X-WR-CALDESC:Eventos para Efecto Mariposa
REFRESH-INTERVAL;VALUE=DURATION:PT1H
X-Robots-Tag:noindex
X-PUBLISHED-TTL:PT1H
BEGIN:VTIMEZONE
TZID:Europe/Paris
BEGIN:DAYLIGHT
TZOFFSETFROM:+0100
TZOFFSETTO:+0200
TZNAME:CEST
DTSTART:20230326T010000
END:DAYLIGHT
BEGIN:STANDARD
TZOFFSETFROM:+0200
TZOFFSETTO:+0100
TZNAME:CET
DTSTART:20231029T010000
END:STANDARD
BEGIN:DAYLIGHT
TZOFFSETFROM:+0100
TZOFFSETTO:+0200
TZNAME:CEST
DTSTART:20240331T010000
END:DAYLIGHT
BEGIN:STANDARD
TZOFFSETFROM:+0200
TZOFFSETTO:+0100
TZNAME:CET
DTSTART:20241027T010000
END:STANDARD
BEGIN:DAYLIGHT
TZOFFSETFROM:+0100
TZOFFSETTO:+0200
TZNAME:CEST
DTSTART:20250330T010000
END:DAYLIGHT
BEGIN:STANDARD
TZOFFSETFROM:+0200
TZOFFSETTO:+0100
TZNAME:CET
DTSTART:20251026T010000
END:STANDARD
END:VTIMEZONE
BEGIN:VEVENT
DTSTART;TZID=Europe/Paris:20241103T163000
DTEND;TZID=Europe/Paris:20241103T193000
DTSTAMP:20260420T095320
CREATED:20241007T183428Z
LAST-MODIFIED:20241101T082242Z
UID:751-1730651400-1730662200@staging.efectodemariposa.com
SUMMARY:Constelaciones Familiares 3/11
DESCRIPTION:Cada constelación familiar es un evento que toca fondo en nuestra alma. El alma de quien constela\, del constelador\, de los que representan y de los que participan asistiendo.🦋 \n🦋Nadie comparece a un grupo de constelación por casualidad\, cada constelador lo sabe\, por innumerables ejemplos.🦋 \n🦋Hay personas que «por casualidad» fueron invitadas por un amigo y decidieron participar\, otras estaban mirando sus redes sociales y de pronto «se sintieron atraídas» por algo que estaba allí colgado y fueron a ver de qué se trataba. Otras ya lo conocían de oídas y de repente «percibieron que debían participar»; otras nunca habían oído hablar de ello ni sabían de qué se trataba\, pero alguien comentó o les invitó y aun sin saber qué era\, «percibieron que necesitaban comparecer» y fueron\, para participar en una experiencia que transformó su realidad.🦋 \n🦋Si participamos en una constelación es porque hemos sido «llamados» y hay algo que necesitábamos vivenciar a través de aquella constelación. Ya estábamos listos.🦋 \n🦋Por afinidad\, por sintonía llegamos allá\, y quedamos\, como tantos\, impactados por lo que se desveló en el campo.🦋 \n🦋Los comentarios siempre se producen y son semejantes: «aquella constelación parecía hecha para mí»\, «noté que era mi constelación»\, «paso por un problema muy semejante a este»\, «sabía que sería llamado para representar»\, y así sucesivamente.🦋 \nQuieres venir como representante o quieres constelar? \nPrecio: \nRepresentante GRATIS \nCONSTELAR 50€ \nCONSTELAR con carta astral 110€
URL:https://staging.efectodemariposa.com/event/constelaciones-familiares-3-11/
LOCATION:Espai Adarsha\, Girona 166\, ento 3A\, Barcelona\, Barcelona\, 08023\, España
CATEGORIES:Constelaciones Familiares
ATTACH;FMTTYPE=image/jpeg:https://staging.efectodemariposa.com/wp-content/uploads/2024/07/DgHik52X0AAxvuP.jpg
ORGANIZER;CN="Efecto de Mariposa":MAILTO:cisarovnna@gmail.com
END:VEVENT
BEGIN:VEVENT
DTSTART;TZID=Europe/Paris:20241117T163000
DTEND;TZID=Europe/Paris:20241117T193000
DTSTAMP:20260420T095320
CREATED:20241007T183830Z
LAST-MODIFIED:20241101T090056Z
UID:755-1731861000-1731871800@staging.efectodemariposa.com
SUMMARY:Constelaciones Familiares 17/11
DESCRIPTION:Cada constelación familiar es un evento que toca fondo en nuestra alma. El alma de quien constela\, del constelador\, de los que representan y de los que participan asistiendo.🦋 \n🦋Nadie comparece a un grupo de constelación por casualidad\, cada constelador lo sabe\, por innumerables ejemplos.🦋 \n🦋Hay personas que «por casualidad» fueron invitadas por un amigo y decidieron participar\, otras estaban mirando sus redes sociales y de pronto «se sintieron atraídas» por algo que estaba allí colgado y fueron a ver de qué se trataba. Otras ya lo conocían de oídas y de repente «percibieron que debían participar»; otras nunca habían oído hablar de ello ni sabían de qué se trataba\, pero alguien comentó o les invitó y aun sin saber qué era\, «percibieron que necesitaban comparecer» y fueron\, para participar en una experiencia que transformó su realidad.🦋 \n🦋Si participamos en una constelación es porque hemos sido «llamados» y hay algo que necesitábamos vivenciar a través de aquella constelación. Ya estábamos listos.🦋 \n🦋Por afinidad\, por sintonía llegamos allá\, y quedamos\, como tantos\, impactados por lo que se desveló en el campo.🦋 \n🦋Los comentarios siempre se producen y son semejantes: «aquella constelación parecía hecha para mí»\, «noté que era mi constelación»\, «paso por un problema muy semejante a este»\, «sabía que sería llamado para representar»\, y así sucesivamente.🦋 \nQuieres venir como representante o quieres constelar? \nPrecio: \nRepresentante GRATIS \nCONSTELAR 50€ \nCONSTELAR con carta astral 110€
URL:https://staging.efectodemariposa.com/event/constelaciones-familiares-17-11/
LOCATION:Espai Adarsha\, Girona 166\, ento 3A\, Barcelona\, Barcelona\, 08023\, España
CATEGORIES:Constelaciones Familiares
ATTACH;FMTTYPE=image/webp:https://staging.efectodemariposa.com/wp-content/uploads/2024/07/31907e_e10c6a0ef6ae4055bcb81dcf624a8691mv2.webp
ORGANIZER;CN="Efecto de Mariposa":MAILTO:cisarovnna@gmail.com
END:VEVENT
BEGIN:VEVENT
DTSTART;TZID=Europe/Paris:20241123T163000
DTEND;TZID=Europe/Paris:20241123T193000
DTSTAMP:20260420T095320
CREATED:20241030T083619Z
LAST-MODIFIED:20241123T124727Z
UID:882-1732379400-1732390200@staging.efectodemariposa.com
SUMMARY:Constelaciones Familiares 23/11
DESCRIPTION:Cada constelación familiar es un evento que toca fondo en nuestra alma. El alma de quien constela\, del constelador\, de los que representan y de los que participan asistiendo.🦋 \n🦋Nadie comparece a un grupo de constelación por casualidad\, cada constelador lo sabe\, por innumerables ejemplos.🦋 \n🦋Hay personas que «por casualidad» fueron invitadas por un amigo y decidieron participar\, otras estaban mirando sus redes sociales y de pronto «se sintieron atraídas» por algo que estaba allí colgado y fueron a ver de qué se trataba. Otras ya lo conocían de oídas y de repente «percibieron que debían participar»; otras nunca habían oído hablar de ello ni sabían de qué se trataba\, pero alguien comentó o les invitó y aun sin saber qué era\, «percibieron que necesitaban comparecer» y fueron\, para participar en una experiencia que transformó su realidad.🦋 \n🦋Si participamos en una constelación es porque hemos sido «llamados» y hay algo que necesitábamos vivenciar a través de aquella constelación. Ya estábamos listos.🦋 \n🦋Por afinidad\, por sintonía llegamos allá\, y quedamos\, como tantos\, impactados por lo que se desveló en el campo.🦋 \n🦋Los comentarios siempre se producen y son semejantes: «aquella constelación parecía hecha para mí»\, «noté que era mi constelación»\, «paso por un problema muy semejante a este»\, «sabía que sería llamado para representar»\, y así sucesivamente.🦋 \nQuieres venir como representante o quieres constelar? \nPrecio: \nRepresentante GRATIS \nCONSTELAR 50€ \nCONSTELAR con carta astral 110€
URL:https://staging.efectodemariposa.com/event/constelaciones-familiares-23-11/
LOCATION:Espai Adarsha\, Girona 166\, ento 3A\, Barcelona\, Barcelona\, 08023\, España
CATEGORIES:Constelaciones Familiares
ORGANIZER;CN="Efecto de Mariposa":MAILTO:cisarovnna@gmail.com
END:VEVENT
BEGIN:VEVENT
DTSTART;TZID=Europe/Paris:20241124T100000
DTEND;TZID=Europe/Paris:20241124T140000
DTSTAMP:20260420T095320
CREATED:20241020T175810Z
LAST-MODIFIED:20241120T153534Z
UID:803-1732442400-1732456800@staging.efectodemariposa.com
SUMMARY:Taller: De tanto amarte\, me olvide de mi
DESCRIPTION:Este taller esta dedicado a: \nEste taller está dirigido a personas que buscan sanar sus heridas emocionales y mejorar sus relaciones amorosas desde el autoconocimiento. A través de la astrología y las constelaciones familiares\, se enfocará en quienes desean profundizar en su amor propio\, reconectar con su esencia emocional\, y sanar patrones repetitivos en pareja. No se requiere conocimiento previo de astrología ni de constelaciones familiares. \nAgenda\n\nIntroducción\n\nBienvenida e introducción a los temas del taller.\nImportancia del amor propio en las relaciones de pareja.\n\n\nLa Luna por Signos y Casas\n\nCómo la Luna influye en nuestras emociones y necesidades emocionales.\nExploración de la Luna en cada signo y casa.\n\n\nVenus por Signos y Casas\n\nCómo Venus define el amor\, la autoestima y el valor propio.\nAnálisis de Venus en cada signo y casa en la carta natal.\n\n\nQuirón y Cómo Sanar\n\nEl papel de Quirón en nuestras heridas emocionales y de pareja.\nIdentificación de patrones de dolor y sanación.\n\n\nÓrdenes del Amor (Constelaciones Familiares)\n\nExplicación de los Órdenes del Amor según las Constelaciones Familiares.\nCómo influyen en nuestras relaciones amorosas y la conexión con el linaje.\n\n\nConstelación Grupal\n\nEspacio para que el grupo realice una constelación colectiva.\nReflexión grupal sobre el amor propio y los vínculos familiares.\n\n\nSorteo de Constelación\n\nSorteo entre los asistentes para que uno de ellos pueda constelar en vivo.\n\n\nCierre\n\nReflexión final sobre el proceso vivido.\nPreguntas y espacio de cierre energético\nEste taller se hace en colaboración de efecto de mariposa y la mistica piscis\n\n\n\nMas  info: 675279404 \nPrecio 65 Euros hasta 20 de noviembre \nPost 20 de noviembre 80Euros \n 
URL:https://staging.efectodemariposa.com/event/taller-de-tanto-amarte-me-olvide-de-mi/
LOCATION:Seven Dance\, Carrer del Perill\, 10\, Gràcia\, Barcelona\, Barcelona\, 08012\, Spain
CATEGORIES:Astrologia,Constelaciones Familiares
ATTACH;FMTTYPE=image/png:https://staging.efectodemariposa.com/wp-content/uploads/2024/10/Copy-of-Copy-of-Signos-futuro.png
ORGANIZER;CN="Efecto de Mariposa":MAILTO:cisarovnna@gmail.com
END:VEVENT
BEGIN:VEVENT
DTSTART;TZID=Europe/Paris:20241124T163000
DTEND;TZID=Europe/Paris:20241124T193000
DTSTAMP:20260420T095320
CREATED:20241030T084149Z
LAST-MODIFIED:20241101T090302Z
UID:886-1732465800-1732476600@staging.efectodemariposa.com
SUMMARY:Constelaciones Familiares 24/11
DESCRIPTION:Cada constelación familiar es un evento que toca fondo en nuestra alma. El alma de quien constela\, del constelador\, de los que representan y de los que participan asistiendo.🦋 \n🦋Nadie comparece a un grupo de constelación por casualidad\, cada constelador lo sabe\, por innumerables ejemplos.🦋 \n🦋Hay personas que «por casualidad» fueron invitadas por un amigo y decidieron participar\, otras estaban mirando sus redes sociales y de pronto «se sintieron atraídas» por algo que estaba allí colgado y fueron a ver de qué se trataba. Otras ya lo conocían de oídas y de repente «percibieron que debían participar»; otras nunca habían oído hablar de ello ni sabían de qué se trataba\, pero alguien comentó o les invitó y aun sin saber qué era\, «percibieron que necesitaban comparecer» y fueron\, para participar en una experiencia que transformó su realidad.🦋 \n🦋Si participamos en una constelación es porque hemos sido «llamados» y hay algo que necesitábamos vivenciar a través de aquella constelación. Ya estábamos listos.🦋 \n🦋Por afinidad\, por sintonía llegamos allá\, y quedamos\, como tantos\, impactados por lo que se desveló en el campo.🦋 \n🦋Los comentarios siempre se producen y son semejantes: «aquella constelación parecía hecha para mí»\, «noté que era mi constelación»\, «paso por un problema muy semejante a este»\, «sabía que sería llamado para representar»\, y así sucesivamente.🦋 \nQuieres venir como representante o quieres constelar? \nPrecio: \nRepresentante GRATIS \nCONSTELAR 50€ \nCONSTELAR con carta astral 110€
URL:https://staging.efectodemariposa.com/event/constelaciones-familiares-24-11/
LOCATION:Espai Adarsha\, Girona 166\, ento 3A\, Barcelona\, Barcelona\, 08023\, España
CATEGORIES:Constelaciones Familiares
ATTACH;FMTTYPE=image/jpeg:https://staging.efectodemariposa.com/wp-content/uploads/2024/10/const.jpg
ORGANIZER;CN="Efecto de Mariposa":MAILTO:cisarovnna@gmail.com
END:VEVENT
END:VCALENDAR