BEGIN:VCALENDAR
VERSION:2.0
PRODID:-//Efecto Mariposa - ECPv6.15.20//NONSGML v1.0//EN
CALSCALE:GREGORIAN
METHOD:PUBLISH
X-WR-CALNAME:Efecto Mariposa
X-ORIGINAL-URL:https://staging.efectodemariposa.com
X-WR-CALDESC:Eventos para Efecto Mariposa
REFRESH-INTERVAL;VALUE=DURATION:PT1H
X-Robots-Tag:noindex
X-PUBLISHED-TTL:PT1H
BEGIN:VTIMEZONE
TZID:UTC
BEGIN:STANDARD
TZOFFSETFROM:+0000
TZOFFSETTO:+0000
TZNAME:UTC
DTSTART:20230101T000000
END:STANDARD
END:VTIMEZONE
BEGIN:VEVENT
DTSTART;TZID=UTC:20241006T163000
DTEND;TZID=UTC:20241006T193000
DTSTAMP:20260422T102447
CREATED:20240909T072952Z
LAST-MODIFIED:20240924T103034Z
UID:594-1728232200-1728243000@staging.efectodemariposa.com
SUMMARY:Constelaciones Familiares 6/10
DESCRIPTION:Cada constelación familiar es un evento que toca fondo en nuestra alma. El alma de quien constela\, del constelador\, de los que representan y de los que participan asistiendo. \nNadie comparece a un grupo de constelación por casualidad\, cada constelador lo sabe\, por innumerables ejemplos. \nHay personas que «por casualidad» fueron invitadas por un amigo y decidieron participar\, otras estaban mirando sus redes sociales y de pronto «se sintieron atraídas» por algo que estaba allí colgado y fueron a ver de qué se trataba. Otras ya lo conocían de oídas y de repente «percibieron que debían participar»; otras nunca habían oído hablar de ello ni sabían de qué se trataba\, pero alguien comentó o les invitó y aun sin saber qué era\, «percibieron que necesitaban comparecer» y fueron\, para participar en una experiencia que transformó su realidad. \nSi participamos en una constelación es porque hemos sido «llamados» y hay algo que necesitábamos vivenciar a través de aquella constelación. Ya estábamos listos. \nPor afinidad\, por sintonía llegamos allá\, y quedamos\, como tantos\, impactados por lo que se desveló en el campo. \nLos comentarios siempre se producen y son semejantes: «aquella constelación parecía hecha para mí»\, «noté que era mi constelación»\, «paso por un problema muy semejante a este»\, «sabía que sería llamado para representar»\, y así sucesivamente. \nQuieres venir como representante o quieres constelar? \nPrecio: \nRepresentante GRATIS \nCONSTELAR 50€ \nCONSTELAR con carta astral 110€
URL:https://staging.efectodemariposa.com/event/constelaciones-familiares-6-10/
LOCATION:Espai Adarsha\, Girona 166\, ento 3A\, Barcelona\, Barcelona\, 08023\, España
CATEGORIES:Constelaciones Familiares
ATTACH;FMTTYPE=image/webp:https://staging.efectodemariposa.com/wp-content/uploads/2024/09/constelacion_familiarr_guia_principiantes.webp
END:VEVENT
BEGIN:VEVENT
DTSTART;VALUE=DATE:20241013
DTEND;VALUE=DATE:20241014
DTSTAMP:20260422T102447
CREATED:20240731T111422Z
LAST-MODIFIED:20240909T113346Z
UID:510-1728777600-1728863999@staging.efectodemariposa.com
SUMMARY:RETIRO - LA BRÚJULA DE ABUNDANCIA
DESCRIPTION:Retiro de Constelaciones Familiares y Astrología\nFECHA : 13 de octubre 2024 \nUna experiencia transformadora que tu alma te está pidiendo a gritos!\nMuchas de las limitaciones que experimentamos en el día a día tienen su origen en aspectos familiares y transgeneracionales\, algo que se manifiesta en la repetición inconsciente de patrones de relación\, creencias heredadas y ‘escenarios de vida’ que se reproducen generación tras generación. Otras veces sucede que\, por no contar con una perspectiva más amplia de una situación determinada\, no logramos hallar una salida o solución creativa.\nLa Astrologia y  constelación familiares y sistémicas son una excelente herramienta tanto para hacer conscientes y transformar herencias familiares\, como para encontrar soluciones creativas a desafíos de la vida cotidiana. \nLo que vas a vivir durante el retiro… \n\nVas a conocer cuáles son tus creencias limitantes y las vas a destruir y crear nueves creencias potenciadoras\, conocerás tu carta natal .\nRealizarás movimientos sanadores:\n\n\nPara conocer el origen de los bloqueos inconscientes que te impiden tener dinero vemos tu carta natal\nPara liberarte de todas las limitaciones ancestrales familiares que tienes acerca del dinero y devolvérselas a quien corresponda\nPara saber cómo te relacionas con el dinero\nPara colocarte en TU lugar para poder mirar al dinero tomar su energía\n\n\nRealizaremos ritos sanadores para revocar\, rescindir\, renunciar\, retractar\, reclamar\, denunciar\, destruir y descrear TODO lo que te impida tener total facilidad para la creación de dinero para generar nuevos flujos financieros.\nComprender el origen de síntomas o problemas de dinero\nAbrir la puerta a la prosperidad\nMejorar la autogestión emocional y  liberarse de cargas\nHaremos un ritual de la abundancia de energía de dinero\, riqueza y poder\nViviremos una experiencia de alto impacto para tomar consciencia de tu relación con el dinero.\n\nHERRAMIENTAS:\nLas Constelaciones Familiares serán el eje principal de este retiro que\, junto con las herramientas de Astrología te llevarán a otro nivel en tu vida en relación con el dinero. Realizarás una inmersión sistémica para poner orden y liberarte de las lealtades familiares inconscientes que te impiden tener la vida y el dinero que deseas. \nAGENDA\nDOMINGO 13 de octubre\n\n9h a 9:30h – Bienvenida \n9:30 – 10h influencia de los planetas en la dinámica familiar\n10h – 10:30 influencia de los signos del zodiaco en la dinámica familiar\n10:30 – 11:15h interpretación de la carta natal para entender relaciones familiares + ejemplos prácticos y ejercicios\n11:15 – 11:30h Tea Break\n11:30h – 13h Astrología: Dinero y Pareja\n13h – 14h Comida vegetariana\n14h – 15h – Conocer el origen de los bloqueos inconscientes que te impiden tener dinero\n15h – 15:30 Meditación – Jale – ritual  energético del dinero\, la riqueza y el poder.\n15:30 – 17h Constelación \n17h – 17:15h Tea break\n18h – 19:30h – Constelaciones de abundancia \n19:30h – 20h – Cierre.\n\n\n*La agenda puede ser modificada en función del desarrollo del retiro y de la demanda energética de l@s alumn@s.\n* El chef de La masia\, nos preparará un exquisito y equilibrado menú vegetariano con alimentos 100% naturales y procedentes de agricultura ecológica para que puedas deleitarte y disfrutar de uno de los mayores placeres terrenales.\n* Si tienes alguna alergia alimentaria o requieres algún tipo de alimentación especial\, por favor háznoslo saber a la hora de realizar tu reserva para que el chef pueda realizarte un menú a tu medida.\n\n\nA tener en cuenta:\n\nSe requerirá que lleves un objeto que para ti simbolice riqueza y pareja. \nAl hacer pago infórmanos de tu fecha\, hora y lugar de nacimiento para poder entregarte la carta. \n*Todos constelaremos en constelación grupal general. Habrá otras constelaciones que constelaremos par de elegidos a través sorteo. No se asegura que todos los asistentes puedan realizar su constelación personal \, si bien presenciar las constelaciones tiene un gran potencial transformador para todas los y las partícipes. \nQueremos acompañarte en este viaje hacia la abundancia y al fin alcanzar la plenitud en tu vida.\nSoy Nadia Cisarova  – EFECTO DE MARIPOSA y llevo más de 17 años acompañando a personas a que puedan descubrir el origen de sus bloqueos a través de las Constelaciones Familiares \, Cambio de Creencias \, MUNAY KI y otras terapias  para que puedan vivir una vida plena y consciente. \nMe acompañará Alicia Gonzalez – LA MÍSTICA PISCIS – Astróloga con mas de 10 años de experiencia en temas relacionados a la abundancia y energías\, certificada por la UPF como coach y en ISAA como astróloga. \nDurante este  día de retiro nos transformaremos en tus mentoras para guiarte y acompañarte en este proceso de transformación en tu vida en el que te enseñaremos todo lo que hemos aprendido a lo largo de años de formación y trabajo. \nAdemás\, nos ocuparemos de que vivas una experiencia reveladora\, que cambiará tu forma de ver la forma después de estos maravillosos e intensos días de trabajo que nos esperan. \nPRECIO: \n380€ \nAntes de 15 de septiembre 330€ \nRESERVAS: \nWhatsApp Nadia ( Efecto de Mariposa) 675 27 94 04  Alicia ( La mística Piscis) 628328686 \n 
URL:https://staging.efectodemariposa.com/event/retiro-la-brujula-de-abundancia/
LOCATION:El Domo Vall de Dois\, Vall de Dois\, Caldes d'Estrac\, Barcelona\, Barcelona\, 08393\, España
CATEGORIES:Constelaciones Familiares
ATTACH;FMTTYPE=image/jpeg:https://staging.efectodemariposa.com/wp-content/uploads/2024/07/e66f08854c07f1acec3427542c6416ac.jpg
ORGANIZER;CN="Efecto de Mariposa":MAILTO:cisarovnna@gmail.com
END:VEVENT
BEGIN:VEVENT
DTSTART;TZID=UTC:20241020T100000
DTEND;TZID=UTC:20241020T130000
DTSTAMP:20260422T102447
CREATED:20241007T184837Z
LAST-MODIFIED:20241007T184837Z
UID:759-1729418400-1729429200@staging.efectodemariposa.com
SUMMARY:Taller MUNAY-KI transformación repentina del Jaguar/ Puma
DESCRIPTION:Mientras la serpiente representa el poder de la sanación\, que es gradual y tiende a incrementarse\, el jaguar simboliza la transformación repentina. Lo que perdura siempre está en constante cambio y renovación; pues lo que permanece sin cambiar\, perece. Podemos transformar nuestros cuerpos para que sanen rápidamente y envejezcan con elegancia\, encarnando las fuerzas representadas por el jaguar. Considera la metáfora de que tenemos nueve vidas como los gatos. Cuando llegamos al final de una de estas vidas (otros podrían llamarlos etapas o fases)\, es importante dar al viejo “yo” un entierro decente\, y luego saltar como un jaguar hacia lo que nos estamos convirtiendo. De lo contrario\, nos pasaremos los años intentando cambiar y cargando con ese antiguo ser que nunca pudo desarrollarse. El Jaguar nos enseña a ir más allá del miedo\, la violencia y la muerte. Ella es la fuerza vital de la selva y es experta en los ciclos de la vida.\n\n\nEn el taller aprenderemos cerrar las etapas de la vida\, es importante dar al viejo “yo” un entierro decente\, y luego saltar como un jaguar hacia nuestro nuevo YO.\n\n\nTaller va dirigido a todas las personas que quieren despertar la energía del puma/ jaguar para encontrar la visión que nos guiará en la vida. (NO es necesario previo de iniciarse en MUNAY KI.)\n\n\n\nTALLER :\nPrecio: 50€\nPrecio incluye:\nactividad del taller\, musica\, pica-pica\n\n\nmas info: whatsapp 675279404
URL:https://staging.efectodemariposa.com/event/taller-munay-ki-transformacion-repentina-del-jaguar-puma/
LOCATION:Espai Adarsha\, Girona 166\, ento 3A\, Barcelona\, Barcelona\, 08023\, España
CATEGORIES:Constelaciones Familiares
ATTACH;FMTTYPE=image/jpeg:https://staging.efectodemariposa.com/wp-content/uploads/2024/10/puma.jpg
ORGANIZER;CN="Efecto de Mariposa":MAILTO:cisarovnna@gmail.com
END:VEVENT
BEGIN:VEVENT
DTSTART;TZID=UTC:20241020T163000
DTEND;TZID=UTC:20241020T193000
DTSTAMP:20260422T102447
CREATED:20241007T051347Z
LAST-MODIFIED:20241007T053226Z
UID:738-1729441800-1729452600@staging.efectodemariposa.com
SUMMARY:Constelaciones familiares 20/10
DESCRIPTION:Cada constelación familiar es un evento que toca fondo en nuestra alma. El alma de quien constela\, del constelador\, de los que representan y de los que participan asistiendo.🦋 \n🦋Nadie comparece a un grupo de constelación por casualidad\, cada constelador lo sabe\, por innumerables ejemplos.🦋 \n🦋Hay personas que «por casualidad» fueron invitadas por un amigo y decidieron participar\, otras estaban mirando sus redes sociales y de pronto «se sintieron atraídas» por algo que estaba allí colgado y fueron a ver de qué se trataba. Otras ya lo conocían de oídas y de repente «percibieron que debían participar»; otras nunca habían oído hablar de ello ni sabían de qué se trataba\, pero alguien comentó o les invitó y aun sin saber qué era\, «percibieron que necesitaban comparecer» y fueron\, para participar en una experiencia que transformó su realidad.🦋 \n🦋Si participamos en una constelación es porque hemos sido «llamados» y hay algo que necesitábamos vivenciar a través de aquella constelación. Ya estábamos listos.🦋 \n🦋Por afinidad\, por sintonía llegamos allá\, y quedamos\, como tantos\, impactados por lo que se desveló en el campo.🦋 \n🦋Los comentarios siempre se producen y son semejantes: «aquella constelación parecía hecha para mí»\, «noté que era mi constelación»\, «paso por un problema muy semejante a este»\, «sabía que sería llamado para representar»\, y así sucesivamente.🦋 \nQuieres venir como representante o quieres constelar? \nPrecio: \nRepresentante GRATIS \nCONSTELAR 50€ \nCONSTELAR con carta astral 110€
URL:https://staging.efectodemariposa.com/event/constelaciones-familiares-20-10/
LOCATION:Espai Adarsha\, Girona 166\, ento 3A\, Barcelona\, Barcelona\, 08023\, España
CATEGORIES:Constelaciones Familiares
ATTACH;FMTTYPE=image/webp:https://staging.efectodemariposa.com/wp-content/uploads/2024/07/31907e_9aaa633c9afb4894a50eab67731209eemv2.webp
ORGANIZER;CN="Efecto de Mariposa":MAILTO:cisarovnna@gmail.com
END:VEVENT
BEGIN:VEVENT
DTSTART;TZID=UTC:20241027T163000
DTEND;TZID=UTC:20241027T193000
DTSTAMP:20260422T102447
CREATED:20241022T085335Z
LAST-MODIFIED:20241022T085335Z
UID:818-1730046600-1730057400@staging.efectodemariposa.com
SUMMARY:Constelaciones familiares 27/10
DESCRIPTION:Cada constelación familiar es un evento que toca fondo en nuestra alma. El alma de quien constela\, del constelador\, de los que representan y de los que participan asistiendo.🦋 \n  \n🦋Nadie comparece a un grupo de constelación por casualidad\, cada constelador lo sabe\, por innumerables ejemplos.🦋 \n  \n🦋Hay personas que «por casualidad» fueron invitadas por un amigo y decidieron participar\, otras estaban mirando sus redes sociales y de pronto «se sintieron atraídas» por algo que estaba allí colgado y fueron a ver de qué se trataba. Otras ya lo conocían de oídas y de repente «percibieron que debían participar»; otras nunca habían oído hablar de ello ni sabían de qué se trataba\, pero alguien comentó o les invitó y aun sin saber qué era\, «percibieron que necesitaban comparecer» y fueron\, para participar en una experiencia que transformó su realidad.🦋 \n  \n🦋Si participamos en una constelación es porque hemos sido «llamados» y hay algo que necesitábamos vivenciar a través de aquella constelación. Ya estábamos listos.🦋 \n  \n🦋Por afinidad\, por sintonía llegamos allá\, y quedamos\, como tantos\, impactados por lo que se desveló en el campo.🦋 \n  \n🦋Los comentarios siempre se producen y son semejantes: «aquella constelación parecía hecha para mí»\, «noté que era mi constelación»\, «paso por un problema muy semejante a este»\, «sabía que sería llamado para representar»\, y así sucesivamente.🦋 \n  \nQuieres venir como representante o quieres constelar? \n  \nPrecio: \n  \nRepresentante GRATIS \n  \nCONSTELAR 50€ \n  \nCONSTELAR con carta astral 110€
URL:https://staging.efectodemariposa.com/event/constelaciones-familiares-27-10/
LOCATION:Espai Adarsha\, Girona 166\, ento 3A\, Barcelona\, Barcelona\, 08023\, España
CATEGORIES:Constelaciones Familiares
ATTACH;FMTTYPE=image/webp:https://staging.efectodemariposa.com/wp-content/uploads/2024/09/constelacion_familiarr_guia_principiantes.webp
ORGANIZER;CN="Efecto de Mariposa":MAILTO:cisarovnna@gmail.com
END:VEVENT
END:VCALENDAR